BEGIN:VCALENDAR
VERSION:2.0
PRODID:-//ChamberMaster//Event Calendar 2.0//EN
METHOD:PUBLISH
X-PUBLISHED-TTL:P1H
REFRESH-INTERVAL:P1H
CALSCALE:GREGORIAN
BEGIN:VTIMEZONE
TZID:America/Chicago
BEGIN:DAYLIGHT
RRULE:FREQ=YEARLY;BYMONTH=3;BYDAY=2SU
DTSTART:20070101T000000
TZOFFSETFROM:-0600
TZOFFSETTO:-0500
TZNAME:Central Daylight Time
END:DAYLIGHT
BEGIN:STANDARD
RRULE:FREQ=YEARLY;BYMONTH=11;BYDAY=1SU
DTSTART:20070101T000000
TZOFFSETFROM:-0500
TZOFFSETTO:-0600
TZNAME:Central Standard Time
END:STANDARD
END:VTIMEZONE
BEGIN:VEVENT
DTSTART;TZID=America/Chicago:20260911T180000
DTEND;TZID=America/Chicago:20260912T210000
X-MICROSOFT-CDO-ALLDAYEVENT:FALSE
SUMMARY:First Responder Appreciation 2026
DESCRIPTION:First Responder Appreciation Night with the Springfield CardinalsJoin the business community in thanking our local First Responders for their dedication and courage. Your company can help underwrite an unforgettable night at the ballpark for these heroes and their families. This special event will be held over two evenings to ensure as many First Responders as possible can enjoy this well-deserved experience.Partner with us to make a lasting impact and say "thank you" to those who protect us.When registering\, simply enter the billing contact's information. We will handle the rest! PRESENTING SPONSOR:Rick's Automotive
X-ALT-DESC;FMTTYPE=text/html:<!DOCTYPE html><html><head><title></title></head><body aria-disabled="false"><p style='box-sizing: border-box\; margin: 0px 0px 1rem\; color: rgb(85\, 85\, 85)\; font-family: "Gothic A1"\, sans-serif\; font-size: 16px\; font-style: normal\; font-variant-ligatures: normal\; font-variant-caps: normal\; font-weight: 400\; letter-spacing: normal\; orphans: 2\; text-align: start\; text-indent: 0px\; text-transform: none\; widows: 2\; word-spacing: 0px\; -webkit-text-stroke-width: 0px\; white-space: normal\; background-color: rgb(255\, 255\, 255)\; text-decoration-thickness: initial\; text-decoration-style: initial\; text-decoration-color: initial\;'><br></p><p><br></p><p><strong fr-original-style="" style="font-weight: 700\;">First Responder Appreciation Night with the Springfield Cardinals</strong></p><p>Join the business community in thanking our local First Responders for their dedication and courage. Your company can help underwrite an unforgettable night at the ballpark for these heroes and their families.&nbsp\;</p><p>This special event will be held over two evenings to ensure as many First Responders as possible can enjoy this well-deserved experience.</p><p>Partner with us to make a lasting impact and say &quot\;thank you&quot\; to those who protect us.</p><p>When registering\, simply enter the billing contact&#39\;s information. We will handle the rest!&nbsp\;</p><p><strong fr-original-style="" style="font-weight: 700\;">PRESENTING SPONSOR:</strong></p><p>Rick&#39\;s Automotive</p><p><br></p><p><br></p></body></html>
LOCATION:955 E Trafficway St Springfield MO 65802
UID:e.1296.1235293
SEQUENCE:3
DTSTAMP:20260421T020729Z
URL:https://springfieldareachamberofcommerce.growthzoneapp.com/eventcalendar/Details/first-responder-appreciation-2026-1443040?sourceTypeId=Hub
END:VEVENT
END:VCALENDAR
