BEGIN:VCALENDAR
VERSION:2.0
PRODID:-//ChamberMaster//Event Calendar 2.0//EN
METHOD:PUBLISH
X-PUBLISHED-TTL:P1H
REFRESH-INTERVAL:P1H
CALSCALE:GREGORIAN
BEGIN:VTIMEZONE
TZID:America/Chicago
BEGIN:DAYLIGHT
RRULE:FREQ=YEARLY;BYMONTH=3;BYDAY=2SU
DTSTART:20070101T000000
TZOFFSETFROM:-0600
TZOFFSETTO:-0500
TZNAME:Central Daylight Time
END:DAYLIGHT
BEGIN:STANDARD
RRULE:FREQ=YEARLY;BYMONTH=11;BYDAY=1SU
DTSTART:20070101T000000
TZOFFSETFROM:-0500
TZOFFSETTO:-0600
TZNAME:Central Standard Time
END:STANDARD
END:VTIMEZONE
BEGIN:VEVENT
DTSTART;TZID=America/Chicago:20261016T080000
DTEND;TZID=America/Chicago:20261016T123000
X-MICROSOFT-CDO-ALLDAYEVENT:FALSE
SUMMARY:IGNITE Leadership Conference 2026
DESCRIPTION:IGNITE a dynamic\, half-day professional development event designed to inspire and empower business leaders\, small business owners\, community leaders\, and young professionals. The 2026 speaker lineup will be announced soon and will feature nationally recognized thought leaders and experts. See more information on our IGNITE website.
X-ALT-DESC;FMTTYPE=text/html:<!DOCTYPE html><html><head><title></title></head><body aria-disabled="false" data-new-gr-c-s-loaded="14.1261.0"><p style="text-align: left\;">IGNITE&mdash\;a dynamic\, half-day professional development event designed to inspire and empower business leaders\, small business owners\, community leaders\, and young professionals.&nbsp\;</p><p data-end="489" data-start="371">The 2026 speaker lineup will be announced soon and will feature nationally recognized thought leaders and experts. See more information on our <a fr-original-style="" href="https://www.springfieldchamber.com/ignite-conference/" style="user-select: auto\;">IGNITE website.</a></p><p><br></p><p><br></p><p><br></p><p><br></p></body></html>
LOCATION:
UID:e.1296.1245434
SEQUENCE:3
DTSTAMP:20260421T021045Z
URL:https://springfieldareachamberofcommerce.growthzoneapp.com/eventcalendar/Details/ignite-leadership-conference-2026-1455784?sourceTypeId=Hub
END:VEVENT
END:VCALENDAR
