BEGIN:VCALENDAR
VERSION:2.0
PRODID:-//ChamberMaster//Event Calendar 2.0//EN
METHOD:PUBLISH
X-PUBLISHED-TTL:P1H
REFRESH-INTERVAL:P1H
CALSCALE:GREGORIAN
BEGIN:VTIMEZONE
TZID:America/Chicago
BEGIN:DAYLIGHT
RRULE:FREQ=YEARLY;BYMONTH=3;BYDAY=2SU
DTSTART:20070101T000000
TZOFFSETFROM:-0600
TZOFFSETTO:-0500
TZNAME:Central Daylight Time
END:DAYLIGHT
BEGIN:STANDARD
RRULE:FREQ=YEARLY;BYMONTH=11;BYDAY=1SU
DTSTART:20070101T000000
TZOFFSETFROM:-0500
TZOFFSETTO:-0600
TZNAME:Central Standard Time
END:STANDARD
END:VTIMEZONE
BEGIN:VEVENT
DTSTART;TZID=America/Chicago:20260205T000000
DTEND;TZID=America/Chicago:20260605T000000
X-MICROSOFT-CDO-ALLDAYEVENT:FALSE
SUMMARY:Ireland Chamber Cultural Immersion Travel Program
DESCRIPTION:Ireland Chamber Cultural Immersion \nTravel ProgramAn Irish Charm Getaway October 24   November 1\, 2026: Early Bird Price - $4\,199 pp\, based on double occupancy Air & Land\, 9 Days\, 8 Nights\, Including Hotels\, Meals\, Day Trips\, and Airfare from Kansas CityClick Here to Learn More                              Joining a group trip to Ireland organized by the Springfield Area Chamber of Commerce offers a unique blend of benefits that appeal to both business professionals and enthusiasts of Irish culture alike. Traveling in a group\, led by knowledgeable guides\, ensures a seamless experience where logistics are handled with ease\, allowing participants to focus on enjoying the journey rather than worrying about details. This structured approach not only provides a cost-effective way to explore Ireland's renowned landscapes and historic cities but also fosters opportunities to network and deepen business relationships in a relaxed\, informal setting. From Norman castles to Georgian country houses\, the Emerald Isle is brimming with drama and spectacles. Every moment is crafted to maximize cultural immersion and professional camaraderie\, making it an ideal choice for those seeking both personal enrichment and professional growth without breaking the bank.Click Here to Register
X-ALT-DESC;FMTTYPE=text/html:<!DOCTYPE html><html><head><title></title></head><body aria-disabled="false"><p><span style="color: rgb(25\, 26\, 32)\; font-family: Arial\, Helvetica\, sans-serif\; font-size: 24px\; font-style: normal\; font-variant-ligatures: normal\; font-variant-caps: normal\; font-weight: 400\; letter-spacing: 0.5px\; orphans: 2\; text-align: start\; text-indent: 0px\; text-transform: none\; widows: 2\; word-spacing: 0px\; -webkit-text-stroke-width: 0px\; white-space: nowrap\; background-color: rgb(255\, 255\, 255)\; text-decoration-thickness: initial\; text-decoration-style: initial\; text-decoration-color: initial\; float: none\; display: inline !important\;">Ireland Chamber Cultural Immersion&nbsp\;</span><br><span style="color: rgb(25\, 26\, 32)\; font-family: Arial\, Helvetica\, sans-serif\; font-size: 24px\; font-style: normal\; font-variant-ligatures: normal\; font-variant-caps: normal\; font-weight: 400\; letter-spacing: 0.5px\; orphans: 2\; text-align: start\; text-indent: 0px\; text-transform: none\; widows: 2\; word-spacing: 0px\; -webkit-text-stroke-width: 0px\; white-space: nowrap\; background-color: rgb(255\, 255\, 255)\; text-decoration-thickness: initial\; text-decoration-style: initial\; text-decoration-color: initial\; float: none\; display: inline !important\;">Travel Program</span></p><p><span style="color: rgb(0\, 0\, 0)\; font-family: Arial\; font-size: medium\; font-style: normal\; font-variant-ligatures: normal\; font-variant-caps: normal\; font-weight: 400\; letter-spacing: normal\; orphans: 2\; text-align: start\; text-indent: 0px\; text-transform: none\; widows: 2\; word-spacing: 0px\; -webkit-text-stroke-width: 0px\; white-space: normal\; text-decoration-thickness: initial\; text-decoration-style: initial\; text-decoration-color: initial\; display: inline !important\; float: none\;">An Irish Charm Getaway October 24 &ndash\; November 1\, 2026: Early Bird Price - $4\,199 pp\, based on double occupancy Air &amp\; Land\, 9 Days\, 8 Nights\, Including Hotels\, Meals\, Day Trips\, and Airfare from Kansas City</span></p><p><a fr-original-style="" href="https://www.questvoyager.com/irish-charm" style="user-select: auto\;"><span style="font-size: 24px\;">Click Here to Learn More</span><span style="font-size: 24px\;">&nbsp\;</span></a><span style="font-size: 24px\;">&nbsp\; &nbsp\; &nbsp\; &nbsp\; &nbsp\; &nbsp\; &nbsp\; &nbsp\; &nbsp\; &nbsp\; &nbsp\; &nbsp\; &nbsp\; &nbsp\; &nbsp\;</span></p><p>Joining a group trip to Ireland organized by the Springfield Area Chamber of Commerce offers a unique blend of benefits that appeal to both business professionals and enthusiasts of Irish culture alike. Traveling in a group\, led by knowledgeable guides\, ensures a seamless experience where logistics are handled with ease\, allowing participants to focus on enjoying the journey rather than worrying about details. This structured approach not only provides a cost-effective way to explore Ireland&#39\;s renowned landscapes and historic cities but also fosters opportunities to network and deepen business relationships in a relaxed\, informal setting. From Norman castles to Georgian country houses\, the Emerald Isle is brimming with drama and spectacles. Every moment is crafted to maximize cultural immersion and professional camaraderie\, making it an ideal choice for those seeking both personal enrichment and professional growth without breaking the bank.</p><p style="text-align: center\;"><a fr-original-class="fr-green fr-strong" fr-original-style="" href="https://questvoyager.wetravel.com/trips/springfield-area-chamber-presents-irish-charm-quest-voyager-90310521" rel="noopener noreferrer" style="user-select: auto\; font-weight: 700\; color: green\;" target="_blank"><span style="font-family: Arial\, Helvetica\, sans-serif\; font-size: 30px\;">Click Here to Register</span></a></p></body></html>
LOCATION:
UID:e.1296.1392958
SEQUENCE:3
DTSTAMP:20260421T021225Z
URL:https://springfieldareachamberofcommerce.growthzoneapp.com/eventcalendar/Details/ireland-chamber-cultural-immersion-travel-program-1645728?sourceTypeId=Hub
END:VEVENT
END:VCALENDAR
